BEGIN:VCALENDAR
VERSION:2.0
PRODID:-//Plone.org//NONSGML plone.app.event//EN
X-WR-TIMEZONE:America/Buenos_Aires
BEGIN:VEVENT
SUMMARY:YA-LA - FEIRA do LIVRO da UNILA inicia sua segunda edição
DTSTART;TZID=America/Buenos_Aires;VALUE=DATE-TIME:20240403T140000
DTEND;TZID=America/Buenos_Aires;VALUE=DATE-TIME:20240405T200000
DTSTAMP;VALUE=DATE-TIME:20260423T231029Z
UID:e45b7d08735c453689f8101e58900a7b@portal.unila.edu.br
CREATED;VALUE=DATE-TIME:20240402T154716Z
DESCRIPTION:UNILA promove\, entre os dias 03 e 05 de abril\, no corredor d
 o auditório do campus integração\, a YA-LA - II Feira do Livro\, organi
 zada pela Editora Universitária - EDUNILA.
LAST-MODIFIED;VALUE=DATE-TIME:20240403T190315Z
URL:https://portal.unila.edu.br/eventos/ya-la-feira-do-livro-da-unila-inic
 ia-sua-segunda-edicao
END:VEVENT
BEGIN:VTIMEZONE
TZID:America/Buenos_Aires
X-LIC-LOCATION:America/Buenos_Aires
BEGIN:STANDARD
DTSTART;VALUE=DATE-TIME:20090314T230000
TZNAME:ART
TZOFFSETFROM:-0200
TZOFFSETTO:-0300
END:STANDARD
END:VTIMEZONE
END:VCALENDAR
