BEGIN:VCALENDAR
VERSION:2.0
PRODID:-//Plone.org//NONSGML plone.app.event//EN
X-WR-TIMEZONE:America/Buenos_Aires
BEGIN:VEVENT
SUMMARY:XVIII Encontro Regional de História da ANPUH-PR: Nação\, Povos 
 e Territórios
DTSTART;TZID=America/Buenos_Aires;VALUE=DATE-TIME:20220907T100000
DTEND;TZID=America/Buenos_Aires;VALUE=DATE-TIME:20220910T120000
DTSTAMP;VALUE=DATE-TIME:20260424T010124Z
UID:b93f0f64d6df420e98f4ba9b5187cea1@portal.unila.edu.br
CONTACT:https://www.encontro2022.pr.anpuh.org/site/capa
CREATED;VALUE=DATE-TIME:20220615T134503Z
DESCRIPTION:O evento será composto por conferências\, mesas redondas\, s
 impósios temáticos\, minicursos\, atividades culturais e lançamento de 
 livros.
LAST-MODIFIED;VALUE=DATE-TIME:20220909T181130Z
LOCATION:Unidade Jardim Universitário da UNILA (JU)
URL:https://portal.unila.edu.br/eventos/xviii-encontro-regional-de-histori
 a-da-anpuh-pr-nacao-povos-e-territorios
END:VEVENT
BEGIN:VTIMEZONE
TZID:America/Buenos_Aires
X-LIC-LOCATION:America/Buenos_Aires
BEGIN:STANDARD
DTSTART;VALUE=DATE-TIME:20090314T230000
TZNAME:ART
TZOFFSETFROM:-0200
TZOFFSETTO:-0300
END:STANDARD
END:VTIMEZONE
END:VCALENDAR
