BEGIN:VCALENDAR
VERSION:2.0
PRODID:-//Plone.org//NONSGML plone.app.event//EN
X-WR-TIMEZONE:America/Buenos_Aires
BEGIN:VEVENT
SUMMARY:XIII Fórum Internacional de Pedagogia
DTSTART;TZID=America/Buenos_Aires;VALUE=DATE-TIME:20220914T160000
DTEND;TZID=America/Buenos_Aires;VALUE=DATE-TIME:20220916T220000
DTSTAMP;VALUE=DATE-TIME:20260423T210138Z
UID:324010ba1be94c5b83c0de8b567cbadf@portal.unila.edu.br
CONTACT:https://www.even3.com.br/fiped2022/?fbclid=IwAR2i8Ieh9TSqIXmybHCvA
 FfcMWyf4LRrflE
CREATED;VALUE=DATE-TIME:20220602T112456Z
DESCRIPTION:Edição brasileira do evento está sendo promovida por divers
 as instituições\, dentre elas a UNILA.
LAST-MODIFIED;VALUE=DATE-TIME:20220602T112512Z
LOCATION:Universidade Federal do Pará\, Campus Universitário de Altami
URL:https://portal.unila.edu.br/eventos/xiii-forum-internacional-de-pedago
 gia
END:VEVENT
BEGIN:VTIMEZONE
TZID:America/Buenos_Aires
X-LIC-LOCATION:America/Buenos_Aires
BEGIN:STANDARD
DTSTART;VALUE=DATE-TIME:20090314T230000
TZNAME:ART
TZOFFSETFROM:-0200
TZOFFSETTO:-0300
END:STANDARD
END:VTIMEZONE
END:VCALENDAR
