BEGIN:VCALENDAR
VERSION:2.0
PRODID:-//Plone.org//NONSGML plone.app.event//EN
X-WR-TIMEZONE:America/Buenos_Aires
BEGIN:VEVENT
SUMMARY:Workshop: Tendências de Inovação com Foco em Problemas Reais
DTSTART;TZID=America/Buenos_Aires;VALUE=DATE-TIME:20230906T183000
DTSTAMP;VALUE=DATE-TIME:20260424T032208Z
UID:062c66c4a96b445c98876d6d8e76424f@portal.unila.edu.br
CREATED;VALUE=DATE-TIME:20230831T160314Z
DESCRIPTION:Núcleo de Inovação e Tecnologia da UNILA (NIT) promove\, em
  parceria com SEBRAE\, IFPR e Unioeste\, workshop voltado a startups
LAST-MODIFIED;VALUE=DATE-TIME:20230831T160321Z
LOCATION:UNILA - Jardim Universitário
URL:https://portal.unila.edu.br/eventos/workshop-tendencias-de-inovacao-co
 m-foco-em-problemas-reais
END:VEVENT
BEGIN:VTIMEZONE
TZID:America/Buenos_Aires
X-LIC-LOCATION:America/Buenos_Aires
BEGIN:STANDARD
DTSTART;VALUE=DATE-TIME:20090314T230000
TZNAME:ART
TZOFFSETFROM:-0200
TZOFFSETTO:-0300
END:STANDARD
END:VTIMEZONE
END:VCALENDAR
