BEGIN:VCALENDAR
VERSION:2.0
PRODID:-//Plone.org//NONSGML plone.app.event//EN
X-WR-TIMEZONE:America/Buenos_Aires
BEGIN:VEVENT
SUMMARY:Webnar: Geotecnologias
DTSTART;TZID=America/Buenos_Aires;VALUE=DATE-TIME:20220519T100000
DTEND;TZID=America/Buenos_Aires;VALUE=DATE-TIME:20220519T120000
DTSTAMP;VALUE=DATE-TIME:20260424T040953Z
UID:be043a9139e24f348991509d24fc7751@portal.unila.edu.br
CONTACT:https://www.youtube.com/watch?v=HclaXx-KTf4
CREATED;VALUE=DATE-TIME:20220516T125902Z
DESCRIPTION:Seminário online irá tratar de temas da Geotecnologia com di
 versos palestrantes da área
LAST-MODIFIED;VALUE=DATE-TIME:20220516T130047Z
LOCATION:Online
URL:https://portal.unila.edu.br/eventos/webnar-geotecnologias-2
END:VEVENT
BEGIN:VTIMEZONE
TZID:America/Buenos_Aires
X-LIC-LOCATION:America/Buenos_Aires
BEGIN:STANDARD
DTSTART;VALUE=DATE-TIME:20090314T230000
TZNAME:ART
TZOFFSETFROM:-0200
TZOFFSETTO:-0300
END:STANDARD
END:VTIMEZONE
END:VCALENDAR
