BEGIN:VCALENDAR
VERSION:2.0
PRODID:-//Plone.org//NONSGML plone.app.event//EN
X-WR-TIMEZONE:America/Buenos_Aires
BEGIN:VEVENT
SUMMARY:Webinar sobre geotecnologias
DTSTART;TZID=America/Buenos_Aires;VALUE=DATE-TIME:20220427T103000
DTEND;TZID=America/Buenos_Aires;VALUE=DATE-TIME:20220427T111500
DTSTAMP;VALUE=DATE-TIME:20260423T225008Z
UID:b41dbf8308fc4708988d1d1122ae6bc5@portal.unila.edu.br
CREATED;VALUE=DATE-TIME:20220425T173428Z
DESCRIPTION:Apresentações com palestrantes experientes nas temáticas re
 lacionadas a geotecnologias\; as inscrições poderão ser realizadas via 
 formulário eletrônico
LAST-MODIFIED;VALUE=DATE-TIME:20220426T211507Z
LOCATION:https://www.youtube.com/c/unila
URL:https://portal.unila.edu.br/eventos/webnar-geotecnologias-1
END:VEVENT
BEGIN:VTIMEZONE
TZID:America/Buenos_Aires
X-LIC-LOCATION:America/Buenos_Aires
BEGIN:STANDARD
DTSTART;VALUE=DATE-TIME:20090314T230000
TZNAME:ART
TZOFFSETFROM:-0200
TZOFFSETTO:-0300
END:STANDARD
END:VTIMEZONE
END:VCALENDAR
