BEGIN:VCALENDAR
VERSION:2.0
PRODID:-//Plone.org//NONSGML plone.app.event//EN
X-WR-TIMEZONE:America/Buenos_Aires
BEGIN:VEVENT
SUMMARY:Webinar: "Revit básico para projetos de arquitetura"
DTSTART;TZID=America/Sao_Paulo;VALUE=DATE-TIME:20210827T190000
DTEND;TZID=America/Sao_Paulo;VALUE=DATE-TIME:20210827T203000
DTSTAMP;VALUE=DATE-TIME:20260423T061246Z
UID:019e93929d70465b97e95821fe68fe84@portal.unila.edu.br
CREATED;VALUE=DATE-TIME:20210824T195243Z
DESCRIPTION:Evento será nesta sexta-feira (27)\, às 19h\, e faz parte do
  projeto de extensão Arterapia
LAST-MODIFIED;VALUE=DATE-TIME:20210824T200226Z
URL:https://portal.unila.edu.br/eventos/webinar-revit-basico-para-projetos
 -de-arquitetura
END:VEVENT
BEGIN:VTIMEZONE
TZID:America/Sao_Paulo
X-LIC-LOCATION:America/Sao_Paulo
BEGIN:STANDARD
DTSTART;VALUE=DATE-TIME:20210220T230000
TZNAME:BRT
TZOFFSETFROM:-0200
TZOFFSETTO:-0300
END:STANDARD
END:VTIMEZONE
END:VCALENDAR
