BEGIN:VCALENDAR
VERSION:2.0
PRODID:-//Plone.org//NONSGML plone.app.event//EN
X-WR-TIMEZONE:America/Buenos_Aires
BEGIN:VEVENT
SUMMARY:Webinar: "O desenho à mão livre na arquitetura e no resgate de m
 emórias"
DTSTART;TZID=America/Sao_Paulo;VALUE=DATE-TIME:20210915T190000
DTEND;TZID=America/Sao_Paulo;VALUE=DATE-TIME:20210915T203000
DTSTAMP;VALUE=DATE-TIME:20260423T134604Z
UID:b069dcdf6f9942c3a6563a669d73faf1@portal.unila.edu.br
CREATED;VALUE=DATE-TIME:20210914T125049Z
DESCRIPTION:Evento será nesta quarta-feira (15)\, às 19h\, e faz parte d
 o projeto de extensão Arterapia
LAST-MODIFIED;VALUE=DATE-TIME:20210914T130015Z
URL:https://portal.unila.edu.br/eventos/webinar-o-desenho-a-mao-livre-na-a
 rquitetura-e-no-resgate-de-memorias
END:VEVENT
BEGIN:VTIMEZONE
TZID:America/Sao_Paulo
X-LIC-LOCATION:America/Sao_Paulo
BEGIN:STANDARD
DTSTART;VALUE=DATE-TIME:20210220T230000
TZNAME:BRT
TZOFFSETFROM:-0200
TZOFFSETTO:-0300
END:STANDARD
END:VTIMEZONE
END:VCALENDAR
