BEGIN:VCALENDAR
VERSION:2.0
PRODID:-//Plone.org//NONSGML plone.app.event//EN
X-WR-TIMEZONE:America/Buenos_Aires
BEGIN:VEVENT
SUMMARY:Webinar: "Migración y movilidades fronterizas como estrategia de 
 vida"
DTSTART;TZID=America/Sao_Paulo;VALUE=DATE-TIME:20211018T140000
DTEND;TZID=America/Sao_Paulo;VALUE=DATE-TIME:20211018T160000
DTSTAMP;VALUE=DATE-TIME:20260423T135446Z
UID:f690715f3fba4307a7c6945af21b73f6@portal.unila.edu.br
CATEGORIES:mestrado políticas públicas
CREATED;VALUE=DATE-TIME:20211013T152501Z
DESCRIPTION:Evento será no dia 18 de outubro\, às 14h\, com a participa
 ção da professora Jessica Aguirre (Colmex)
LAST-MODIFIED;VALUE=DATE-TIME:20211013T153548Z
URL:https://portal.unila.edu.br/eventos/webinar-migracion-y-movilidades-fr
 onterizas-como-estrategia-de-vida
END:VEVENT
BEGIN:VTIMEZONE
TZID:America/Sao_Paulo
X-LIC-LOCATION:America/Sao_Paulo
BEGIN:DAYLIGHT
DTSTART;VALUE=DATE-TIME:20211017T010000
TZNAME:BRST
TZOFFSETFROM:-0300
TZOFFSETTO:-0200
END:DAYLIGHT
END:VTIMEZONE
END:VCALENDAR
