BEGIN:VCALENDAR
VERSION:2.0
PRODID:-//Plone.org//NONSGML plone.app.event//EN
X-WR-TIMEZONE:America/Buenos_Aires
BEGIN:VEVENT
SUMMARY:Webinar: "Fotografia - A cidade é um livro\, para lê-la basta ca
 minhar"
DTSTART;TZID=America/Sao_Paulo;VALUE=DATE-TIME:20210929T200000
DTEND;TZID=America/Sao_Paulo;VALUE=DATE-TIME:20210929T213000
DTSTAMP;VALUE=DATE-TIME:20260423T145829Z
UID:f8fefab0969347b48b653f85cfdd1a87@portal.unila.edu.br
CREATED;VALUE=DATE-TIME:20210928T121553Z
DESCRIPTION:Organizada pelo projeto de extensão Arterapia\, atividade ser
 á nesta quarta-feira (29)\, às 20h
LAST-MODIFIED;VALUE=DATE-TIME:20210928T123552Z
URL:https://portal.unila.edu.br/eventos/webinar-fotografia-a-cidade-e-um-l
 ivro-para-le-la-basta-caminhar
END:VEVENT
BEGIN:VTIMEZONE
TZID:America/Sao_Paulo
X-LIC-LOCATION:America/Sao_Paulo
BEGIN:STANDARD
DTSTART;VALUE=DATE-TIME:20210220T230000
TZNAME:BRT
TZOFFSETFROM:-0200
TZOFFSETTO:-0300
END:STANDARD
END:VTIMEZONE
END:VCALENDAR
