BEGIN:VCALENDAR
VERSION:2.0
PRODID:-//Plone.org//NONSGML plone.app.event//EN
X-WR-TIMEZONE:America/Buenos_Aires
BEGIN:VEVENT
SUMMARY:Webinar: “A cidade através do desenho”
DTSTART;TZID=America/Sao_Paulo;VALUE=DATE-TIME:20210818T190000
DTEND;TZID=America/Sao_Paulo;VALUE=DATE-TIME:20210818T203000
DTSTAMP;VALUE=DATE-TIME:20260423T150210Z
UID:4aaaf09929ec48019a886528ef7c99a3@portal.unila.edu.br
CREATED;VALUE=DATE-TIME:20210811T142230Z
DESCRIPTION:Atividade será no dia 18 de agosto\, às 19h
LAST-MODIFIED;VALUE=DATE-TIME:20210811T152240Z
URL:https://portal.unila.edu.br/eventos/webinar-201ca-cidade-atraves-do-de
 senho201d
END:VEVENT
BEGIN:VTIMEZONE
TZID:America/Sao_Paulo
X-LIC-LOCATION:America/Sao_Paulo
BEGIN:STANDARD
DTSTART;VALUE=DATE-TIME:20210220T230000
TZNAME:BRT
TZOFFSETFROM:-0200
TZOFFSETTO:-0300
END:STANDARD
END:VTIMEZONE
END:VCALENDAR
