BEGIN:VCALENDAR
VERSION:2.0
PRODID:-//Plone.org//NONSGML plone.app.event//EN
X-WR-TIMEZONE:America/Buenos_Aires
BEGIN:VEVENT
SUMMARY:Vozes unileiras\, um encontro
DTSTART;TZID=America/Buenos_Aires;VALUE=DATE-TIME:20250129T190000
DTSTAMP;VALUE=DATE-TIME:20260423T224932Z
UID:3e675b5fc9014fa89bcceaa7dd403937@portal.unila.edu.br
CREATED;VALUE=DATE-TIME:20250124T182406Z
DESCRIPTION:Curta-metragem “Vozes unileiras\, um encontro” será exibi
 do no dia 29 de janeiro\, às 19h\, no auditório do Centro de Visitantes 
 do Turismo Itaipu.
LAST-MODIFIED;VALUE=DATE-TIME:20250124T190501Z
URL:https://portal.unila.edu.br/eventos/vozes-unileiras-um-encontro
END:VEVENT
BEGIN:VTIMEZONE
TZID:America/Buenos_Aires
X-LIC-LOCATION:America/Buenos_Aires
BEGIN:STANDARD
DTSTART;VALUE=DATE-TIME:20090314T230000
TZNAME:ART
TZOFFSETFROM:-0200
TZOFFSETTO:-0300
END:STANDARD
END:VTIMEZONE
END:VCALENDAR
