BEGIN:VCALENDAR
VERSION:2.0
PRODID:-//Plone.org//NONSGML plone.app.event//EN
X-WR-TIMEZONE:America/Buenos_Aires
BEGIN:VEVENT
SUMMARY:Visita do ministro da Educação à UNILA
DTSTART;TZID=America/Buenos_Aires;VALUE=DATE-TIME:20260120T100000
DTSTAMP;VALUE=DATE-TIME:20260422T070634Z
UID:973fa681be104f8eb0fe6ae0f8942ce8@portal.unila.edu.br
CREATED;VALUE=DATE-TIME:20260119T194143Z
DESCRIPTION:Visita do ministro da Educação\, Camilo Santana\, à UNILA\,
  será em 20 de janeiro\, às 10h\, na Unidade Jardim Universitário.
LAST-MODIFIED;VALUE=DATE-TIME:20260119T203415Z
LOCATION:UNILA - Jardim Universitário
URL:https://portal.unila.edu.br/eventos/visita-do-ministro-da-educacao-a-u
 nila
END:VEVENT
BEGIN:VTIMEZONE
TZID:America/Buenos_Aires
X-LIC-LOCATION:America/Buenos_Aires
BEGIN:STANDARD
DTSTART;VALUE=DATE-TIME:20090314T230000
TZNAME:ART
TZOFFSETFROM:-0200
TZOFFSETTO:-0300
END:STANDARD
END:VTIMEZONE
END:VCALENDAR
