BEGIN:VCALENDAR
VERSION:2.0
PRODID:-//Plone.org//NONSGML plone.app.event//EN
X-WR-TIMEZONE:America/Buenos_Aires
BEGIN:VEVENT
SUMMARY:VIII Encontro de Estudos Latino-Americanos
DTSTART;VALUE=DATE:20241105
DTEND;VALUE=DATE:20241109
DTSTAMP;VALUE=DATE-TIME:20260423T225229Z
UID:7b35fe5947db440587f72d6a96f48107@portal.unila.edu.br
CREATED;VALUE=DATE-TIME:20241026T122130Z
DESCRIPTION:Encontro contará com apresentações de discentes e palestras
  ministradas por pesquisadores convidados
LAST-MODIFIED;VALUE=DATE-TIME:20241026T122135Z
URL:https://portal.unila.edu.br/eventos/viii-encontro-de-estudos-latino-am
 ericanos
END:VEVENT
END:VCALENDAR
