BEGIN:VCALENDAR
VERSION:2.0
PRODID:-//Plone.org//NONSGML plone.app.event//EN
X-WR-TIMEZONE:America/Buenos_Aires
BEGIN:VEVENT
SUMMARY:VII - Feira de Inovação das Ciências e Engenharias - FICIENCIAS
DTSTART;VALUE=DATE:20181106
DTEND;VALUE=DATE:20181110
DTSTAMP;VALUE=DATE-TIME:20260424T010701Z
UID:c4efab2a81274781bb866a338ba949e9@tibagi.unila
ATTENDEE;CN="Acesso Livre";ROLE=REQ-PARTICIPANT:Acesso Livre
CREATED;VALUE=DATE-TIME:20181101T174554Z
LAST-MODIFIED;VALUE=DATE-TIME:20190112T022528Z
LOCATION:Hotel Golden Park International
URL:https://portal.unila.edu.br/eventos/vii-feira-de-inovacao-das-ciencias
 -e-engenharias-ficiencias
END:VEVENT
END:VCALENDAR
