BEGIN:VCALENDAR
VERSION:2.0
PRODID:-//Plone.org//NONSGML plone.app.event//EN
X-WR-TIMEZONE:America/Buenos_Aires
BEGIN:VEVENT
SUMMARY:VI Semana da Pessoa com Síndrome de Down
DTSTART;VALUE=DATE:20250321
DTEND;VALUE=DATE:20250324
DTSTAMP;VALUE=DATE-TIME:20260424T031855Z
UID:c335d40b05894723973eca036bbe5001@portal.unila.edu.br
CONTACT:https://sig.unila.edu.br/eventos/public/evento/SDOWN2025
CREATED;VALUE=DATE-TIME:20250225T184754Z
DESCRIPTION:Edição de 2025 ocorre entre 21 e 23 de março com a temátic
 a “Suporte para quem precisa. Todos juntos apoiando a inclusão! Seja re
 de de apoio”.
LAST-MODIFIED;VALUE=DATE-TIME:20250226T185347Z
LOCATION:Foz do Iguaçu - PR
URL:https://portal.unila.edu.br/eventos/vi-semana-da-pessoa-com-sindrome-d
 e-down
END:VEVENT
END:VCALENDAR
