BEGIN:VCALENDAR
VERSION:2.0
PRODID:-//Plone.org//NONSGML plone.app.event//EN
X-WR-TIMEZONE:America/Buenos_Aires
BEGIN:VEVENT
SUMMARY:VI Festival Peruano: Entre Apus y estrellas
DTSTART;TZID=America/Buenos_Aires;VALUE=DATE-TIME:20250726T130000
DTSTAMP;VALUE=DATE-TIME:20260424T112437Z
UID:0b466a7a33b34fc08fb720430ac3c5ef@portal.unila.edu.br
CREATED;VALUE=DATE-TIME:20250723T143436Z
DESCRIPTION:Festival com comidas típicas e apresentações culturais acon
 tece na UNILA-Campus Integração no dia 26 de julho\, à partir das 13h.
LAST-MODIFIED;VALUE=DATE-TIME:20250724T191253Z
LOCATION:UNILA-Campus Integração (Avenida Tancredo Neves\, 3147)
URL:https://portal.unila.edu.br/eventos/vi-festival-peruano-entre-apus-y-e
 strellas
END:VEVENT
BEGIN:VTIMEZONE
TZID:America/Buenos_Aires
X-LIC-LOCATION:America/Buenos_Aires
BEGIN:STANDARD
DTSTART;VALUE=DATE-TIME:20090314T230000
TZNAME:ART
TZOFFSETFROM:-0200
TZOFFSETTO:-0300
END:STANDARD
END:VTIMEZONE
END:VCALENDAR
