BEGIN:VCALENDAR
VERSION:2.0
PRODID:-//Plone.org//NONSGML plone.app.event//EN
X-WR-TIMEZONE:America/Buenos_Aires
BEGIN:VEVENT
SUMMARY:VI Encontro Latino-Americano de Arquitetura Comunitária
DTSTART;TZID=America/Buenos_Aires;VALUE=DATE-TIME:20241014T090000
DTEND;TZID=America/Buenos_Aires;VALUE=DATE-TIME:20241019T140000
DTSTAMP;VALUE=DATE-TIME:20260424T114358Z
UID:045dba8fee66425592d23824ba5419b8@portal.unila.edu.br
CREATED;VALUE=DATE-TIME:20240229T141227Z
DESCRIPTION:Pela primeira vez no Brasil\, o ELAC ocorre de 14 a 18 de outu
 bro\, em Foz do Iguaçu/PR. No dia 19\, acontece o II Encontro Internacion
 al do MALOCA
LAST-MODIFIED;VALUE=DATE-TIME:20240815T164338Z
LOCATION:Campus Integração e nas unidades Jardim Universitário e PTI
URL:https://portal.unila.edu.br/eventos/vi-encontro-latino-americano-de-ar
 quitetura-comunitaria
END:VEVENT
BEGIN:VTIMEZONE
TZID:America/Buenos_Aires
X-LIC-LOCATION:America/Buenos_Aires
BEGIN:STANDARD
DTSTART;VALUE=DATE-TIME:20090314T230000
TZNAME:ART
TZOFFSETFROM:-0200
TZOFFSETTO:-0300
END:STANDARD
END:VTIMEZONE
END:VCALENDAR
