BEGIN:VCALENDAR
VERSION:2.0
PRODID:-//Plone.org//NONSGML plone.app.event//EN
X-WR-TIMEZONE:America/Buenos_Aires
BEGIN:VEVENT
SUMMARY:Palestra "Velhas e novas vinculações: o atual cenário político
  internacional e o nexo Tríplice Fronteira-Terrorismo"
DTSTART;TZID=America/Sao_Paulo;VALUE=DATE-TIME:20190911T090000
DTEND;TZID=America/Sao_Paulo;VALUE=DATE-TIME:20190911T113000
DTSTAMP;VALUE=DATE-TIME:20260423T230443Z
UID:5467997c10124d988e52ce6e2ebce107@portal.unila.edu.br
CATEGORIES:mestrado relações internacionais
CONTACT:https://triplicef.org/2019/09/09/velhas-e-novas-vinculacoes-o-atua
 l-cenario-politico-atual-e-o-nexo-triplice-fronteira-terrorismo/
CREATED;VALUE=DATE-TIME:20190909T130730Z
DESCRIPTION:No dia em que o ataque ao World Trade Center completa 18 anos\
 , debate na UNILA vai abordar as conexões entre a Tríplice Fronteira e o
  terrorismo internacional
LAST-MODIFIED;VALUE=DATE-TIME:20190910T133226Z
LOCATION:Sala Florestan Fernandes 3 - Parque Tecnológico Itaipu (Avenida 
 Tancredo Neves\, 6731)
URL:https://portal.unila.edu.br/eventos/velhas-e-novas-vinculacoes-o-atual
 -cenario-politico-internacional-e-o-nexo-triplice-fronteira-terrorismo
END:VEVENT
BEGIN:VTIMEZONE
TZID:America/Sao_Paulo
X-LIC-LOCATION:America/Sao_Paulo
BEGIN:STANDARD
DTSTART;VALUE=DATE-TIME:20190216T230000
TZNAME:BRT
TZOFFSETFROM:-0200
TZOFFSETTO:-0300
END:STANDARD
END:VTIMEZONE
END:VCALENDAR
