BEGIN:VCALENDAR
VERSION:2.0
PRODID:-//Plone.org//NONSGML plone.app.event//EN
X-WR-TIMEZONE:America/Buenos_Aires
BEGIN:VEVENT
SUMMARY:V Semana Acadêmica da Licenciatura em Matemática
DTSTART;TZID=America/Buenos_Aires;VALUE=DATE-TIME:20241125T190000
DTSTAMP;VALUE=DATE-TIME:20260424T032207Z
UID:06aff586bcd14c4aaa260708b431a89b@portal.unila.edu.br
CREATED;VALUE=DATE-TIME:20241119T170819Z
DESCRIPTION:O evento contará com palestras\, mesas-redondas e comunicaç
 ões científicas\, com o objetivo de contribuir para a formação profiss
 ional dos participantes.
LAST-MODIFIED;VALUE=DATE-TIME:20241127T180105Z
URL:https://portal.unila.edu.br/eventos/v-semana-academica-da-licenciatura
 -em-matematica
END:VEVENT
BEGIN:VTIMEZONE
TZID:America/Buenos_Aires
X-LIC-LOCATION:America/Buenos_Aires
BEGIN:STANDARD
DTSTART;VALUE=DATE-TIME:20090314T230000
TZNAME:ART
TZOFFSETFROM:-0200
TZOFFSETTO:-0300
END:STANDARD
END:VTIMEZONE
END:VCALENDAR
