BEGIN:VCALENDAR
VERSION:2.0
PRODID:-//Plone.org//NONSGML plone.app.event//EN
X-WR-TIMEZONE:America/Buenos_Aires
BEGIN:VEVENT
SUMMARY:"UNILúdica: aprenda brincando!"
DTSTART;TZID=America/Buenos_Aires;VALUE=DATE-TIME:20251012T100000
DTEND;TZID=America/Buenos_Aires;VALUE=DATE-TIME:20251012T160000
DTSTAMP;VALUE=DATE-TIME:20260423T090538Z
UID:fec1dd8bcfca4d9c9a887ad6b0c272f9@portal.unila.edu.br
CREATED;VALUE=DATE-TIME:20251007T203617Z
DESCRIPTION:No dia 12 de outubro\, das 10h às 16h\, o Mercado Público Ba
 rrageiro recebe o “UNILúdica: aprenda brincando!”\, promovido pela PR
 OEX\, com atividades gratuitas para toda a comunidade.
LAST-MODIFIED;VALUE=DATE-TIME:20251008T110907Z
LOCATION:Mercado Público Barrageiro
URL:https://portal.unila.edu.br/eventos/uniludica-aprenda-brincando
END:VEVENT
BEGIN:VTIMEZONE
TZID:America/Buenos_Aires
X-LIC-LOCATION:America/Buenos_Aires
BEGIN:STANDARD
DTSTART;VALUE=DATE-TIME:20090314T230000
TZNAME:ART
TZOFFSETFROM:-0200
TZOFFSETTO:-0300
END:STANDARD
END:VTIMEZONE
END:VCALENDAR
