BEGIN:VCALENDAR
VERSION:2.0
PRODID:-//Plone.org//NONSGML plone.app.event//EN
X-WR-TIMEZONE:America/Buenos_Aires
BEGIN:VEVENT
SUMMARY:UNILA na Feira
DTSTART;TZID=America/Sao_Paulo;VALUE=DATE-TIME:20191006T090000
DTEND;TZID=America/Sao_Paulo;VALUE=DATE-TIME:20191006T120000
DTSTAMP;VALUE=DATE-TIME:20260422T124610Z
UID:3388ea3d6c064528ad9df2811a51c722@portal.unila.edu.br
CREATED;VALUE=DATE-TIME:20190715T130716Z
DESCRIPTION:Projeto leva a riqueza e a diversidade da UNILA para a Feirinh
 a da JK
LAST-MODIFIED;VALUE=DATE-TIME:20190715T130725Z
LOCATION:Feirinha da JK - Praça da Paz
URL:https://portal.unila.edu.br/eventos/unila-na-feira-5
END:VEVENT
BEGIN:VTIMEZONE
TZID:America/Sao_Paulo
X-LIC-LOCATION:America/Sao_Paulo
BEGIN:STANDARD
DTSTART;VALUE=DATE-TIME:20190216T230000
TZNAME:BRT
TZOFFSETFROM:-0200
TZOFFSETTO:-0300
END:STANDARD
END:VTIMEZONE
END:VCALENDAR
