BEGIN:VCALENDAR
VERSION:2.0
PRODID:-//Plone.org//NONSGML plone.app.event//EN
X-WR-TIMEZONE:America/Buenos_Aires
BEGIN:VEVENT
SUMMARY:Treinamento Virtual "Minha Biblioteca"
DTSTART;TZID=America/Buenos_Aires;VALUE=DATE-TIME:20240814T103000
DTEND;TZID=America/Buenos_Aires;VALUE=DATE-TIME:20240814T123000
DTSTAMP;VALUE=DATE-TIME:20260423T200345Z
UID:9b57091b13984da3bad314cac71bb6e7@portal.unila.edu.br
CREATED;VALUE=DATE-TIME:20240806T125809Z
DESCRIPTION:Evento direcionado à comunidade acadêmica da UNILA vai apres
 entar as formas de acesso à plataforma "Minha Biblioteca".
LAST-MODIFIED;VALUE=DATE-TIME:20240806T141634Z
LOCATION:Virtual
URL:https://portal.unila.edu.br/eventos/treinamento-virtual-minha-bibliote
 ca
END:VEVENT
BEGIN:VTIMEZONE
TZID:America/Buenos_Aires
X-LIC-LOCATION:America/Buenos_Aires
BEGIN:STANDARD
DTSTART;VALUE=DATE-TIME:20090314T230000
TZNAME:ART
TZOFFSETFROM:-0200
TZOFFSETTO:-0300
END:STANDARD
END:VTIMEZONE
END:VCALENDAR
