BEGIN:VCALENDAR
VERSION:2.0
PRODID:-//Plone.org//NONSGML plone.app.event//EN
X-WR-TIMEZONE:America/Buenos_Aires
BEGIN:VEVENT
SUMMARY:Treinamento em SBV
DTSTART;TZID=America/Buenos_Aires;VALUE=DATE-TIME:20240925T140000
DTSTAMP;VALUE=DATE-TIME:20260423T224837Z
UID:4d5f195fc44645f5be5e34e29868a6c1@portal.unila.edu.br
CREATED;VALUE=DATE-TIME:20240919T151454Z
DESCRIPTION:PRAE e projeto de extensão PasVidas promovem\, no dia 25 de s
 etembro\, um treinamento em Suporte Básico de Vida (SBV) voltado a toda a
  comunidade acadêmica.
LAST-MODIFIED;VALUE=DATE-TIME:20240919T151459Z
LOCATION:Auditório da UNILA-Campus Integração
URL:https://portal.unila.edu.br/eventos/treinamento-em-sbv
END:VEVENT
BEGIN:VTIMEZONE
TZID:America/Buenos_Aires
X-LIC-LOCATION:America/Buenos_Aires
BEGIN:STANDARD
DTSTART;VALUE=DATE-TIME:20090314T230000
TZNAME:ART
TZOFFSETFROM:-0200
TZOFFSETTO:-0300
END:STANDARD
END:VTIMEZONE
END:VCALENDAR
