BEGIN:VCALENDAR
VERSION:2.0
PRODID:-//Plone.org//NONSGML plone.app.event//EN
X-WR-TIMEZONE:America/Buenos_Aires
BEGIN:VEVENT
SUMMARY:TCC - Engenharia Química
DTSTART;TZID=America/Sao_Paulo;VALUE=DATE-TIME:20190711T090000
DTEND;TZID=America/Sao_Paulo;VALUE=DATE-TIME:20190711T120000
DTSTAMP;VALUE=DATE-TIME:20260423T225056Z
UID:0513ffc2f39c4c7cac5c2cbece0df436@portal.unila.edu.br
CREATED;VALUE=DATE-TIME:20190704T130445Z
DESCRIPTION:Desenvolvimento de rota de síntese de novos materiais para ba
 terias de sódio
LAST-MODIFIED;VALUE=DATE-TIME:20190710T192450Z
LOCATION:UNILA - PTI\, Bloco 4\, Espaço 2\, Sala 8
URL:https://portal.unila.edu.br/eventos/trabalho-de-conclusao-de-curso-eng
 enharia-quimica
END:VEVENT
BEGIN:VTIMEZONE
TZID:America/Sao_Paulo
X-LIC-LOCATION:America/Sao_Paulo
BEGIN:STANDARD
DTSTART;VALUE=DATE-TIME:20190216T230000
TZNAME:BRT
TZOFFSETFROM:-0200
TZOFFSETTO:-0300
END:STANDARD
END:VTIMEZONE
END:VCALENDAR
