BEGIN:VCALENDAR
VERSION:2.0
PRODID:-//Plone.org//NONSGML plone.app.event//EN
X-WR-TIMEZONE:America/Buenos_Aires
BEGIN:VEVENT
SUMMARY:Teorias\, epistemologias e análises do urbano e do regional
DTSTART;TZID=America/Sao_Paulo;VALUE=DATE-TIME:20191015T090000
DTEND;TZID=America/Sao_Paulo;VALUE=DATE-TIME:20191016T120000
DTSTAMP;VALUE=DATE-TIME:20260424T010042Z
UID:675f78b0a19b4218b9ebe74df645f1bf@portal.unila.edu.br
CREATED;VALUE=DATE-TIME:20191011T202048Z
DESCRIPTION:Clóvis Ultramari ministra conferência\, oficina e seminário
LAST-MODIFIED;VALUE=DATE-TIME:20191014T162734Z
LOCATION:Mini auditório do IMEA - UNILA/Vila A
URL:https://portal.unila.edu.br/eventos/teorias-espitemologias-e-analises-
 do-urbano-e-do-regional
END:VEVENT
BEGIN:VTIMEZONE
TZID:America/Sao_Paulo
X-LIC-LOCATION:America/Sao_Paulo
BEGIN:STANDARD
DTSTART;VALUE=DATE-TIME:20190216T230000
TZNAME:BRT
TZOFFSETFROM:-0200
TZOFFSETTO:-0300
END:STANDARD
END:VTIMEZONE
END:VCALENDAR
