BEGIN:VCALENDAR
VERSION:2.0
PRODID:-//Plone.org//NONSGML plone.app.event//EN
X-WR-TIMEZONE:America/Buenos_Aires
BEGIN:VEVENT
SUMMARY:TEDxUNILA - Emergindo das fronteiras
DTSTART;TZID=America/Sao_Paulo;VALUE=DATE-TIME:20190413T100000
DTEND;TZID=America/Sao_Paulo;VALUE=DATE-TIME:20190413T190000
DTSTAMP;VALUE=DATE-TIME:20260424T101604Z
UID:c7209f23f7254384b6c529e2da986135@portal.unila.edu.br
CONTACT:https://www.tedxunila.online/
CREATED;VALUE=DATE-TIME:20190325T144946Z
DESCRIPTION:Serão 16 palestras de aproximadamente 18 minutos\, contando c
 om diversas personalidades da UNILA e da região\, envolvendo diversos ass
 untos de interesse da comunidade acadêmica e externa.
LAST-MODIFIED;VALUE=DATE-TIME:20190325T144954Z
LOCATION:Cineteatro Barrageiros - Campus UNILA PTI
URL:https://portal.unila.edu.br/eventos/tedxunila-emergindo-das-fronteiras
END:VEVENT
BEGIN:VTIMEZONE
TZID:America/Sao_Paulo
X-LIC-LOCATION:America/Sao_Paulo
BEGIN:STANDARD
DTSTART;VALUE=DATE-TIME:20190216T230000
TZNAME:BRT
TZOFFSETFROM:-0200
TZOFFSETTO:-0300
END:STANDARD
END:VTIMEZONE
END:VCALENDAR
