BEGIN:VCALENDAR
VERSION:2.0
PRODID:-//Plone.org//NONSGML plone.app.event//EN
X-WR-TIMEZONE:America/Buenos_Aires
BEGIN:VEVENT
SUMMARY:Teatro Científico Tríplice Fronteira
DTSTART;TZID=America/Buenos_Aires;VALUE=DATE-TIME:20231030T083000
DTEND;TZID=America/Buenos_Aires;VALUE=DATE-TIME:20231101T120000
DTSTAMP;VALUE=DATE-TIME:20260423T225014Z
UID:8a76015681d34cabb37e1d1ce55ed52b@portal.unila.edu.br
CREATED;VALUE=DATE-TIME:20231024T121934Z
DESCRIPTION:Teatro e exposição acontecem na UNILA-Jardim Universitário\
 , de 30 de outubro a 1º de novembro
LAST-MODIFIED;VALUE=DATE-TIME:20231024T122003Z
LOCATION:Auditório da UNILA-Jardim Universitário (Avenida Tarquínio Jos
 lin dos Santos\, 1000)
URL:https://portal.unila.edu.br/eventos/teatro-cientifico-triplice-frontei
 ra
END:VEVENT
BEGIN:VTIMEZONE
TZID:America/Buenos_Aires
X-LIC-LOCATION:America/Buenos_Aires
BEGIN:STANDARD
DTSTART;VALUE=DATE-TIME:20090314T230000
TZNAME:ART
TZOFFSETFROM:-0200
TZOFFSETTO:-0300
END:STANDARD
END:VTIMEZONE
END:VCALENDAR
