BEGIN:VCALENDAR
VERSION:2.0
PRODID:-//Plone.org//NONSGML plone.app.event//EN
X-WR-TIMEZONE:America/Buenos_Aires
BEGIN:VEVENT
SUMMARY:Banca de TCC de Mediação Cultural - Artes e Letras
DTSTART;TZID=America/Buenos_Aires;VALUE=DATE-TIME:20220325T160000
DTEND;TZID=America/Buenos_Aires;VALUE=DATE-TIME:20220325T170000
DTSTAMP;VALUE=DATE-TIME:20260423T225208Z
UID:2cc76d27687c4c9ca41878da6295f9dd@portal.unila.edu.br
CREATED;VALUE=DATE-TIME:20220324T124734Z
DESCRIPTION:Trabalho de Conclusão de Curso de João Victor Concer "O neto
  perdido - Programas performativos para encontrar minha avó: Experiência
 \, Memória e Deriva"
LAST-MODIFIED;VALUE=DATE-TIME:20220324T135845Z
LOCATION:Jardim Universitário - Sala C115
URL:https://portal.unila.edu.br/eventos/tcc-o-neto-perdido-programas-perfo
 rmativos-para-encontrar-minha-avo-experiencia-memoria-e-deriva
END:VEVENT
BEGIN:VTIMEZONE
TZID:America/Buenos_Aires
X-LIC-LOCATION:America/Buenos_Aires
BEGIN:STANDARD
DTSTART;VALUE=DATE-TIME:20090314T230000
TZNAME:ART
TZOFFSETFROM:-0200
TZOFFSETTO:-0300
END:STANDARD
END:VTIMEZONE
END:VCALENDAR
