BEGIN:VCALENDAR
VERSION:2.0
PRODID:-//Plone.org//NONSGML plone.app.event//EN
X-WR-TIMEZONE:America/Buenos_Aires
BEGIN:VEVENT
SUMMARY:Tarde Cultural na UNATI - Universidade Aberta à Terceira Idade
DTSTART;TZID=America/Buenos_Aires;VALUE=DATE-TIME:20230928T140000
DTSTAMP;VALUE=DATE-TIME:20260424T032146Z
UID:d8468c8da4754694a6e61b2d07e12c63@portal.unila.edu.br
CREATED;VALUE=DATE-TIME:20230927T162006Z
DESCRIPTION:UNILA e Unioeste promovem a Tarde Cultural da UNATI no dia 28 
 de setembro\,  às 14h\, no Auditório da Unioeste.
LAST-MODIFIED;VALUE=DATE-TIME:20230927T162054Z
LOCATION:Auditório da Unioeste - Foz do Iguaçu
URL:https://portal.unila.edu.br/eventos/tarde-cultural-na-unati-universida
 de-aberta-a-terceira-idade
END:VEVENT
BEGIN:VTIMEZONE
TZID:America/Buenos_Aires
X-LIC-LOCATION:America/Buenos_Aires
BEGIN:STANDARD
DTSTART;VALUE=DATE-TIME:20090314T230000
TZNAME:ART
TZOFFSETFROM:-0200
TZOFFSETTO:-0300
END:STANDARD
END:VTIMEZONE
END:VCALENDAR
