BEGIN:VCALENDAR
VERSION:2.0
PRODID:-//Plone.org//NONSGML plone.app.event//EN
X-WR-TIMEZONE:America/Buenos_Aires
BEGIN:VEVENT
SUMMARY:Taller de Cartografía Musical y Visual de Latinoamérica y el Car
 ibe
DTSTART;TZID=America/Buenos_Aires;VALUE=DATE-TIME:20241119T140000
DTEND;TZID=America/Buenos_Aires;VALUE=DATE-TIME:20241119T170000
DTSTAMP;VALUE=DATE-TIME:20260424T010726Z
UID:ef168412ad0e414d9ea443a6c2607c29@portal.unila.edu.br
CONTACT:https://w.app/CartoMusicalVisual
CREATED;VALUE=DATE-TIME:20241115T131949Z
DESCRIPTION:El Taller de Cartografía Musical y Visual de Latinoamérica y
  el Caribe\, una invitación para explorar cómo el arte refleja y conecta
  nuestras identidades y territorios
LAST-MODIFIED;VALUE=DATE-TIME:20241115T131954Z
LOCATION:UNILA - Jardim Universitário
URL:https://portal.unila.edu.br/eventos/taller-de-cartografia-musical-y-vi
 sual-de-latinoamerica-y-el-caribe
END:VEVENT
BEGIN:VTIMEZONE
TZID:America/Buenos_Aires
X-LIC-LOCATION:America/Buenos_Aires
BEGIN:STANDARD
DTSTART;VALUE=DATE-TIME:20090314T230000
TZNAME:ART
TZOFFSETFROM:-0200
TZOFFSETTO:-0300
END:STANDARD
END:VTIMEZONE
END:VCALENDAR
