BEGIN:VCALENDAR
VERSION:2.0
PRODID:-//Plone.org//NONSGML plone.app.event//EN
X-WR-TIMEZONE:America/Buenos_Aires
BEGIN:VEVENT
SUMMARY:Sumud e os filhos da diáspora
DTSTART;TZID=America/Buenos_Aires;VALUE=DATE-TIME:20241111T193000
DTSTAMP;VALUE=DATE-TIME:20260424T031857Z
UID:c3421130e8dd4e16be13e1a80fa0d053@portal.unila.edu.br
CREATED;VALUE=DATE-TIME:20241108T110416Z
DESCRIPTION:Campus Integração recebe\, na segunda-feira (11)\, o evento 
 "Sumud e os filhos da diáspora: um diálogo entre artes e saúde mental".
  As inscrições estão abertas.
LAST-MODIFIED;VALUE=DATE-TIME:20241108T110424Z
LOCATION:Auditório da UNILA-Campus Integração
URL:https://portal.unila.edu.br/eventos/sumud-e-os-filhos-da-diaspora
END:VEVENT
BEGIN:VTIMEZONE
TZID:America/Buenos_Aires
X-LIC-LOCATION:America/Buenos_Aires
BEGIN:STANDARD
DTSTART;VALUE=DATE-TIME:20090314T230000
TZNAME:ART
TZOFFSETFROM:-0200
TZOFFSETTO:-0300
END:STANDARD
END:VTIMEZONE
END:VCALENDAR
