BEGIN:VCALENDAR
VERSION:2.0
PRODID:-//Plone.org//NONSGML plone.app.event//EN
X-WR-TIMEZONE:America/Buenos_Aires
BEGIN:VEVENT
SUMMARY:Subjetividade e transição para sociedades sustentáveis
DTSTART;TZID=America/Buenos_Aires;VALUE=DATE-TIME:20241202T080000
DTSTAMP;VALUE=DATE-TIME:20260424T101736Z
UID:a8ae3230800e4b979ce3241f42a9445a@portal.unila.edu.br
CREATED;VALUE=DATE-TIME:20241128T103110Z
DESCRIPTION:No dia 2 de dezembro\, o Observatório Educador Ambiental Moem
 a Viezzer organiza o primeiro encontro do ciclo de estudos “Subjetividad
 es e a transição para sociedades sustentáveis”.
LAST-MODIFIED;VALUE=DATE-TIME:20241128T103807Z
URL:https://portal.unila.edu.br/eventos/subjetividade-e-transicao-para-soc
 iedades-sustentaveis
END:VEVENT
BEGIN:VTIMEZONE
TZID:America/Buenos_Aires
X-LIC-LOCATION:America/Buenos_Aires
BEGIN:STANDARD
DTSTART;VALUE=DATE-TIME:20090314T230000
TZNAME:ART
TZOFFSETFROM:-0200
TZOFFSETTO:-0300
END:STANDARD
END:VTIMEZONE
END:VCALENDAR
