BEGIN:VCALENDAR
VERSION:2.0
PRODID:-//Plone.org//NONSGML plone.app.event//EN
X-WR-TIMEZONE:America/Buenos_Aires
BEGIN:VEVENT
SUMMARY:Startup Garage - Workshop Prototipação da Solução
DTSTART;TZID=America/Buenos_Aires;VALUE=DATE-TIME:20241112T190000
DTEND;TZID=America/Buenos_Aires;VALUE=DATE-TIME:20241112T210000
DTSTAMP;VALUE=DATE-TIME:20260423T151231Z
UID:67ba0cdad71e42768586d183a98c3e58@portal.unila.edu.br
CREATED;VALUE=DATE-TIME:20240917T123212Z
DESCRIPTION:Trilha de mentorias ocorrerá entre setembro e dezembro de 202
 4
LAST-MODIFIED;VALUE=DATE-TIME:20240917T123218Z
LOCATION:UNILA - Jardim Universitário
URL:https://portal.unila.edu.br/eventos/startup-garage-workshop-prototipac
 ao-da-solucao
END:VEVENT
BEGIN:VTIMEZONE
TZID:America/Buenos_Aires
X-LIC-LOCATION:America/Buenos_Aires
BEGIN:STANDARD
DTSTART;VALUE=DATE-TIME:20090314T230000
TZNAME:ART
TZOFFSETFROM:-0200
TZOFFSETTO:-0300
END:STANDARD
END:VTIMEZONE
END:VCALENDAR
