BEGIN:VCALENDAR
VERSION:2.0
PRODID:-//Plone.org//NONSGML plone.app.event//EN
X-WR-TIMEZONE:America/Buenos_Aires
BEGIN:VEVENT
SUMMARY:Startup Garage - Workshop Construção de Pitch
DTSTART;TZID=America/Buenos_Aires;VALUE=DATE-TIME:20241125T190000
DTEND;TZID=America/Buenos_Aires;VALUE=DATE-TIME:20241125T210000
DTSTAMP;VALUE=DATE-TIME:20260423T224854Z
UID:c06d0f823ee64234a2a5a218a5b13b1b@portal.unila.edu.br
CREATED;VALUE=DATE-TIME:20240917T123958Z
DESCRIPTION:Trilha de mentorias ocorrerá entre setembro e dezembro de 202
 4
LAST-MODIFIED;VALUE=DATE-TIME:20240917T124007Z
LOCATION:UNILA - Jardim Universitário
URL:https://portal.unila.edu.br/eventos/startup-garage-workshop-construcao
 -de-pitch
END:VEVENT
BEGIN:VTIMEZONE
TZID:America/Buenos_Aires
X-LIC-LOCATION:America/Buenos_Aires
BEGIN:STANDARD
DTSTART;VALUE=DATE-TIME:20090314T230000
TZNAME:ART
TZOFFSETFROM:-0200
TZOFFSETTO:-0300
END:STANDARD
END:VTIMEZONE
END:VCALENDAR
