BEGIN:VCALENDAR
VERSION:2.0
PRODID:-//Plone.org//NONSGML plone.app.event//EN
X-WR-TIMEZONE:America/Buenos_Aires
BEGIN:VEVENT
SUMMARY:Startup Garage 2022
DTSTART;TZID=America/Buenos_Aires;VALUE=DATE-TIME:20220920T080000
DTSTAMP;VALUE=DATE-TIME:20260423T200519Z
UID:d3ae613f68774e5689f1422ee1f8e30d@portal.unila.edu.br
CONTACT:UNILA - Jardim Universitário
CREATED;VALUE=DATE-TIME:20220816T170658Z
DESCRIPTION:Programa gratuito e aberto ao público busca despertar o lado 
 empreendedor dos participantes\, além de fornecer toda a capacitação ne
 cessária para a criação de uma startup
LAST-MODIFIED;VALUE=DATE-TIME:20220816T170734Z
URL:https://portal.unila.edu.br/eventos/startup-garage-2022
END:VEVENT
BEGIN:VTIMEZONE
TZID:America/Buenos_Aires
X-LIC-LOCATION:America/Buenos_Aires
BEGIN:STANDARD
DTSTART;VALUE=DATE-TIME:20090314T230000
TZNAME:ART
TZOFFSETFROM:-0200
TZOFFSETTO:-0300
END:STANDARD
END:VTIMEZONE
END:VCALENDAR
