BEGIN:VCALENDAR
VERSION:2.0
PRODID:-//Plone.org//NONSGML plone.app.event//EN
X-WR-TIMEZONE:America/Buenos_Aires
BEGIN:VEVENT
SUMMARY:"Solventes eutéticos profundos (DES): históricos\, propriedades 
 e aplicações"
DTSTART;TZID=America/Sao_Paulo;VALUE=DATE-TIME:20181109T140000
DTEND;TZID=America/Sao_Paulo;VALUE=DATE-TIME:20181109T180000
DTSTAMP;VALUE=DATE-TIME:20260424T113010Z
UID:3ff16a8c84a14314a0d2c034264e99d1@tibagi.unila
ATTENDEE;CN="Inscrições através do SIGEventos ";ROLE=REQ-PARTICIPANT:In
 scrições através do SIGEventos 
CREATED;VALUE=DATE-TIME:20181101T175917Z
LAST-MODIFIED;VALUE=DATE-TIME:20190112T022529Z
LOCATION:PTI - Bloco 8\, Espaço 3\, Sala 4
URL:https://portal.unila.edu.br/eventos/solventes-euteticos-profundos-des-
 historicos-propriedades-e-aplicacoes
END:VEVENT
BEGIN:VTIMEZONE
TZID:America/Sao_Paulo
X-LIC-LOCATION:America/Sao_Paulo
BEGIN:DAYLIGHT
DTSTART;VALUE=DATE-TIME:20181021T010000
TZNAME:BRST
TZOFFSETFROM:-0300
TZOFFSETTO:-0200
END:DAYLIGHT
END:VTIMEZONE
END:VCALENDAR
