BEGIN:VCALENDAR
VERSION:2.0
PRODID:-//Plone.org//NONSGML plone.app.event//EN
X-WR-TIMEZONE:America/Buenos_Aires
BEGIN:VEVENT
SUMMARY:Solenidade de posse das direções dos Institutos Latino-Americano
 s
DTSTART;TZID=America/Buenos_Aires;VALUE=DATE-TIME:20250909T183000
DTSTAMP;VALUE=DATE-TIME:20260424T051228Z
UID:9e58ffe9ca844641b92ba92bcdacf105@portal.unila.edu.br
CREATED;VALUE=DATE-TIME:20250908T121421Z
DESCRIPTION:Na terça-feira (9)\, às 18h30\, no JU\, a UNILA realiza a so
 lenidade de posse das direções dos Institutos Latino-Americanos. Evento 
 contará também com o lançamento do livro "Integração latino-americana
 : teoria e prática".
LAST-MODIFIED;VALUE=DATE-TIME:20250908T223054Z
URL:https://portal.unila.edu.br/eventos/solenidade-de-posse-das-direcoes-d
 os-institutos-latino-americanos
END:VEVENT
BEGIN:VTIMEZONE
TZID:America/Buenos_Aires
X-LIC-LOCATION:America/Buenos_Aires
BEGIN:STANDARD
DTSTART;VALUE=DATE-TIME:20090314T230000
TZNAME:ART
TZOFFSETFROM:-0200
TZOFFSETTO:-0300
END:STANDARD
END:VTIMEZONE
END:VCALENDAR
