BEGIN:VCALENDAR
VERSION:2.0
PRODID:-//Plone.org//NONSGML plone.app.event//EN
X-WR-TIMEZONE:America/Buenos_Aires
BEGIN:VEVENT
SUMMARY:SIPEQ
DTSTART;TZID=America/Buenos_Aires;VALUE=DATE-TIME:20250528T140000
DTEND;TZID=America/Buenos_Aires;VALUE=DATE-TIME:20250528T180000
DTSTAMP;VALUE=DATE-TIME:20260423T144735Z
UID:f823c546d73c41a48b9515376a82ac22@portal.unila.edu.br
CREATED;VALUE=DATE-TIME:20250331T113029Z
DESCRIPTION:O VII Seminário Internacional de Pesquisa e Estudos Qualitati
 vos (SIPEC) será realizado de 28 a 30 de maio\, na UNILA – Unidade Itai
 pu Parquetec.
LAST-MODIFIED;VALUE=DATE-TIME:20250331T113519Z
LOCATION:UNILA - Jardim Universitário
URL:https://portal.unila.edu.br/eventos/sipeq
END:VEVENT
BEGIN:VTIMEZONE
TZID:America/Buenos_Aires
X-LIC-LOCATION:America/Buenos_Aires
BEGIN:STANDARD
DTSTART;VALUE=DATE-TIME:20090314T230000
TZNAME:ART
TZOFFSETFROM:-0200
TZOFFSETTO:-0300
END:STANDARD
END:VTIMEZONE
END:VCALENDAR
