BEGIN:VCALENDAR
VERSION:2.0
PRODID:-//Plone.org//NONSGML plone.app.event//EN
X-WR-TIMEZONE:America/Buenos_Aires
BEGIN:VEVENT
SUMMARY:Setembro Verde
DTSTART;VALUE=DATE:20240927
DTEND;VALUE=DATE:20241001
DTSTAMP;VALUE=DATE-TIME:20260422T085810Z
UID:c594ba5b3aaa4c7591e1141f66252c17@portal.unila.edu.br
CREATED;VALUE=DATE-TIME:20240829T134122Z
DESCRIPTION:Para encerrar a programação do Setembro Verde\, a agenda con
 tará com o I Encontro do Projeto Espaço iFozLibras\, no dia 27\, no Mini
 auditório do IFPR\, e uma Mesa-redonda (online)\, no dia 30\, com o tema:
  'A experiência de profissionais com deficiência na educação e no merc
 ado de trabalho'.
LAST-MODIFIED;VALUE=DATE-TIME:20240926T112435Z
LOCATION:UNILA
URL:https://portal.unila.edu.br/eventos/setembro-verde
END:VEVENT
END:VCALENDAR
