BEGIN:VCALENDAR
VERSION:2.0
PRODID:-//Plone.org//NONSGML plone.app.event//EN
X-WR-TIMEZONE:America/Buenos_Aires
BEGIN:VEVENT
SUMMARY:Setembro Amarelo: pela valorização da vida
DTSTART;TZID=America/Buenos_Aires;VALUE=DATE-TIME:20220920T140000
DTEND;TZID=America/Buenos_Aires;VALUE=DATE-TIME:20220921T140000
DTSTAMP;VALUE=DATE-TIME:20260423T225514Z
UID:ae58453eea804f4b965e837413628113@portal.unila.edu.br
CONTACT:psicologia.prae@unila.edu.br
CREATED;VALUE=DATE-TIME:20220913T161534Z
DESCRIPTION:SEPSICO/PRAE convida todos a participarem das atividades que i
 ntegram a campanha de prevenção ao suicídio desse ano
LAST-MODIFIED;VALUE=DATE-TIME:20220913T161556Z
LOCATION:Unidade Jardim Universitário da UNILA (JU)
URL:https://portal.unila.edu.br/eventos/setembro-amarelo-pela-valorizacao-
 da-vida-2
END:VEVENT
BEGIN:VTIMEZONE
TZID:America/Buenos_Aires
X-LIC-LOCATION:America/Buenos_Aires
BEGIN:STANDARD
DTSTART;VALUE=DATE-TIME:20090314T230000
TZNAME:ART
TZOFFSETFROM:-0200
TZOFFSETTO:-0300
END:STANDARD
END:VTIMEZONE
END:VCALENDAR
