BEGIN:VCALENDAR
VERSION:2.0
PRODID:-//Plone.org//NONSGML plone.app.event//EN
X-WR-TIMEZONE:America/Buenos_Aires
BEGIN:VEVENT
SUMMARY:Sessões de leitura da obra de Gilles Deleuze
DTSTART;TZID=America/Buenos_Aires;VALUE=DATE-TIME:20220922T140000
DTEND;TZID=America/Buenos_Aires;VALUE=DATE-TIME:20220922T180000
DTSTAMP;VALUE=DATE-TIME:20260423T202215Z
UID:393b6d5b7a2b40dab3114cdff9006557@portal.unila.edu.br
CREATED;VALUE=DATE-TIME:20220829T165139Z
LAST-MODIFIED;VALUE=DATE-TIME:20220829T170411Z
LOCATION:Conferência Web da RNP
URL:https://portal.unila.edu.br/eventos/sessoes-de-leitura-da-obra-de-gill
 es-deleuze-27
END:VEVENT
BEGIN:VTIMEZONE
TZID:America/Buenos_Aires
X-LIC-LOCATION:America/Buenos_Aires
BEGIN:STANDARD
DTSTART;VALUE=DATE-TIME:20090314T230000
TZNAME:ART
TZOFFSETFROM:-0200
TZOFFSETTO:-0300
END:STANDARD
END:VTIMEZONE
END:VCALENDAR
