BEGIN:VCALENDAR
VERSION:2.0
PRODID:-//Plone.org//NONSGML plone.app.event//EN
X-WR-TIMEZONE:America/Buenos_Aires
BEGIN:VEVENT
SUMMARY:Sessões de leitura da obra de Gilles Deleuze
DTSTART;TZID=America/Sao_Paulo;VALUE=DATE-TIME:20211118T160000
DTEND;TZID=America/Sao_Paulo;VALUE=DATE-TIME:20211118T180000
DTSTAMP;VALUE=DATE-TIME:20260423T225537Z
UID:4f2e0ce6bcef4dffae7d47aed5aef860@portal.unila.edu.br
CATEGORIES:filosofia
CREATED;VALUE=DATE-TIME:20210528T143824Z
DESCRIPTION:Próxima sessão será no dia 18 de novembro\, às 16h
LAST-MODIFIED;VALUE=DATE-TIME:20210528T143851Z
URL:https://portal.unila.edu.br/eventos/sessoes-de-leitura-da-obra-de-gill
 es-deleuze-19
END:VEVENT
BEGIN:VTIMEZONE
TZID:America/Sao_Paulo
X-LIC-LOCATION:America/Sao_Paulo
BEGIN:DAYLIGHT
DTSTART;VALUE=DATE-TIME:20211017T010000
TZNAME:BRST
TZOFFSETFROM:-0300
TZOFFSETTO:-0200
END:DAYLIGHT
END:VTIMEZONE
END:VCALENDAR
