BEGIN:VCALENDAR
VERSION:2.0
PRODID:-//Plone.org//NONSGML plone.app.event//EN
X-WR-TIMEZONE:America/Buenos_Aires
BEGIN:VEVENT
SUMMARY:Sessões de leitura da obra de Gilles Deleuze
DTSTART;TZID=America/Sao_Paulo;VALUE=DATE-TIME:20211104T160000
DTEND;TZID=America/Sao_Paulo;VALUE=DATE-TIME:20211104T180000
DTSTAMP;VALUE=DATE-TIME:20260423T225549Z
UID:78ec12f430c74a469ba2c85939935470@portal.unila.edu.br
CATEGORIES:filosofia
CREATED;VALUE=DATE-TIME:20210528T143524Z
DESCRIPTION:Próxima atividade será no dia 4 de novembro\, às 16h
LAST-MODIFIED;VALUE=DATE-TIME:20210528T143545Z
URL:https://portal.unila.edu.br/eventos/sessoes-de-leitura-da-obra-de-gill
 es-deleuze-18
END:VEVENT
BEGIN:VTIMEZONE
TZID:America/Sao_Paulo
X-LIC-LOCATION:America/Sao_Paulo
BEGIN:DAYLIGHT
DTSTART;VALUE=DATE-TIME:20211017T010000
TZNAME:BRST
TZOFFSETFROM:-0300
TZOFFSETTO:-0200
END:DAYLIGHT
END:VTIMEZONE
END:VCALENDAR
