BEGIN:VCALENDAR
VERSION:2.0
PRODID:-//Plone.org//NONSGML plone.app.event//EN
X-WR-TIMEZONE:America/Buenos_Aires
BEGIN:VEVENT
SUMMARY:Sessões de leitura da obra de Gilles Deleuze
DTSTART;TZID=America/Sao_Paulo;VALUE=DATE-TIME:20211007T160000
DTEND;TZID=America/Sao_Paulo;VALUE=DATE-TIME:20211007T180000
DTSTAMP;VALUE=DATE-TIME:20260423T225538Z
UID:0850c150104c4ec8acd9ddd1e4863943@portal.unila.edu.br
CATEGORIES:filosofia
CREATED;VALUE=DATE-TIME:20210528T142956Z
DESCRIPTION:Próxima atividade será no dia 7 de outubro\; organização 
 é do grupo de pesquisa "Diferença e repetição: genéticas e cartografi
 a"
LAST-MODIFIED;VALUE=DATE-TIME:20210528T143021Z
URL:https://portal.unila.edu.br/eventos/sessoes-de-leitura-da-obra-de-gill
 es-deleuze-16
END:VEVENT
BEGIN:VTIMEZONE
TZID:America/Sao_Paulo
X-LIC-LOCATION:America/Sao_Paulo
BEGIN:STANDARD
DTSTART;VALUE=DATE-TIME:20210220T230000
TZNAME:BRT
TZOFFSETFROM:-0200
TZOFFSETTO:-0300
END:STANDARD
END:VTIMEZONE
END:VCALENDAR
