BEGIN:VCALENDAR
VERSION:2.0
PRODID:-//Plone.org//NONSGML plone.app.event//EN
X-WR-TIMEZONE:America/Buenos_Aires
BEGIN:VEVENT
SUMMARY:Sessões de leitura da obra de Gilles Deleuze
DTSTART;TZID=America/Sao_Paulo;VALUE=DATE-TIME:20210923T160000
DTEND;TZID=America/Sao_Paulo;VALUE=DATE-TIME:20210923T180000
DTSTAMP;VALUE=DATE-TIME:20260423T202212Z
UID:9b02ae75a88d4e8f8ef6fa3da067703f@portal.unila.edu.br
CATEGORIES:filosofia
CREATED;VALUE=DATE-TIME:20210528T142739Z
DESCRIPTION:O grupo de pesquisa "Diferença e repetição: genéticas e ca
 rtografia" promove mais uma sessão de leitura no dia 23 de setembro
LAST-MODIFIED;VALUE=DATE-TIME:20210916T171315Z
URL:https://portal.unila.edu.br/eventos/sessoes-de-leitura-da-obra-de-gill
 es-deleuze-15
END:VEVENT
BEGIN:VTIMEZONE
TZID:America/Sao_Paulo
X-LIC-LOCATION:America/Sao_Paulo
BEGIN:STANDARD
DTSTART;VALUE=DATE-TIME:20210220T230000
TZNAME:BRT
TZOFFSETFROM:-0200
TZOFFSETTO:-0300
END:STANDARD
END:VTIMEZONE
END:VCALENDAR
