BEGIN:VCALENDAR
VERSION:2.0
PRODID:-//Plone.org//NONSGML plone.app.event//EN
X-WR-TIMEZONE:America/Buenos_Aires
BEGIN:VEVENT
SUMMARY:Sessões de leitura da obra de Gilles Deleuze
DTSTART;TZID=America/Sao_Paulo;VALUE=DATE-TIME:20210909T160000
DTEND;TZID=America/Sao_Paulo;VALUE=DATE-TIME:20210909T180000
DTSTAMP;VALUE=DATE-TIME:20260423T225539Z
UID:1f56ec371e0d42db850684642d024139@portal.unila.edu.br
CATEGORIES:filosofia
CREATED;VALUE=DATE-TIME:20210528T142051Z
DESCRIPTION:Atividades são promovidas pelo grupo de pesquisa "Diferença 
 e repetição: genéticas e cartografia"\; próxima sessão será dia 9 de
  setembro
LAST-MODIFIED;VALUE=DATE-TIME:20210528T142141Z
URL:https://portal.unila.edu.br/eventos/sessoes-de-leitura-da-obra-de-gill
 es-deleuze-14
END:VEVENT
BEGIN:VTIMEZONE
TZID:America/Sao_Paulo
X-LIC-LOCATION:America/Sao_Paulo
BEGIN:STANDARD
DTSTART;VALUE=DATE-TIME:20210220T230000
TZNAME:BRT
TZOFFSETFROM:-0200
TZOFFSETTO:-0300
END:STANDARD
END:VTIMEZONE
END:VCALENDAR
