BEGIN:VCALENDAR
VERSION:2.0
PRODID:-//Plone.org//NONSGML plone.app.event//EN
X-WR-TIMEZONE:America/Buenos_Aires
BEGIN:VEVENT
SUMMARY:Sessão informativa -  OIM em parceria com o grupo de pesquisa MiA
 L (Migrações forçadas e América Latina)
DTSTART;TZID=America/Buenos_Aires;VALUE=DATE-TIME:20240831T140000
DTEND;TZID=America/Buenos_Aires;VALUE=DATE-TIME:20240831T160000
DTSTAMP;VALUE=DATE-TIME:20260424T010354Z
UID:49bc74075dcb462ea27f8ebcf7984b1d@portal.unila.edu.br
CONTACT:https://docs.google.com/forms/d/e/1FAIpQLScLXUVgHKsJOr0n-Zgd74VMcH
 6I2gTBQVOXdcKrJSDu-bl8nQ/viewform
CREATED;VALUE=DATE-TIME:20240815T160104Z
DESCRIPTION:Organização Internacional para as Migrações (OIM) promove\
 , no dia 31 de agosto\, sessão informativa sobre tráfico de pessoas e co
 ntrabando de migrantes. Inscrições vão até dia 29 de agosto.
LAST-MODIFIED;VALUE=DATE-TIME:20240815T160113Z
LOCATION:Auditório Campus Integração – UNILA - Avenida Tancredo Neves
 \, 3147 - Porto Belo
URL:https://portal.unila.edu.br/eventos/sessao-informativa-oim-em-parceria
 -com-o-grupo-de-pesquisa-mial-migracoes-forcadas-e-america-latina
END:VEVENT
BEGIN:VTIMEZONE
TZID:America/Buenos_Aires
X-LIC-LOCATION:America/Buenos_Aires
BEGIN:STANDARD
DTSTART;VALUE=DATE-TIME:20090314T230000
TZNAME:ART
TZOFFSETFROM:-0200
TZOFFSETTO:-0300
END:STANDARD
END:VTIMEZONE
END:VCALENDAR
