BEGIN:VCALENDAR
VERSION:2.0
PRODID:-//Plone.org//NONSGML plone.app.event//EN
X-WR-TIMEZONE:America/Buenos_Aires
BEGIN:VEVENT
SUMMARY:Seminários de Relações Internacionais foi cancelado
DTSTART;TZID=America/Sao_Paulo;VALUE=DATE-TIME:20190917T190000
DTEND;TZID=America/Sao_Paulo;VALUE=DATE-TIME:20190917T210000
DTSTAMP;VALUE=DATE-TIME:20260423T115219Z
UID:4dd1dbab75e545e894aecab4fba0b0fa@portal.unila.edu.br
ATTENDEE;CN="Evento cancelado";ROLE=REQ-PARTICIPANT:Evento cancelado
CATEGORIES:mestrado relações internacionais
CREATED;VALUE=DATE-TIME:20190912T204755Z
DESCRIPTION:Evento cancelado
LAST-MODIFIED;VALUE=DATE-TIME:20190917T195518Z
LOCATION:Sala Florestan Fernandes 1 - UNILA-PTI (Avenida Tancredo Neves\, 
 6731)
URL:https://portal.unila.edu.br/eventos/seminarios-em-relacoes-internacion
 ais
END:VEVENT
BEGIN:VTIMEZONE
TZID:America/Sao_Paulo
X-LIC-LOCATION:America/Sao_Paulo
BEGIN:STANDARD
DTSTART;VALUE=DATE-TIME:20190216T230000
TZNAME:BRT
TZOFFSETFROM:-0200
TZOFFSETTO:-0300
END:STANDARD
END:VTIMEZONE
END:VCALENDAR
