BEGIN:VCALENDAR
VERSION:2.0
PRODID:-//Plone.org//NONSGML plone.app.event//EN
X-WR-TIMEZONE:America/Buenos_Aires
BEGIN:VEVENT
SUMMARY:Seminários do Programa de Pós-Graduação em Física Aplicada
DTSTART;TZID=America/Sao_Paulo;VALUE=DATE-TIME:20210922T162000
DTEND;TZID=America/Sao_Paulo;VALUE=DATE-TIME:20210922T180000
DTSTAMP;VALUE=DATE-TIME:20260425T175319Z
UID:b21afc02477446f1b8595d98e4acedbf@portal.unila.edu.br
CATEGORIES:mestrado física
CREATED;VALUE=DATE-TIME:20210917T195835Z
DESCRIPTION:Com o tema "Eletrônica molecular: o grande potencial do extre
 mamente pequeno"\, próximo seminário será no dia 22 de setembro
LAST-MODIFIED;VALUE=DATE-TIME:20210917T204859Z
URL:https://portal.unila.edu.br/eventos/seminarios-do-programa-de-pos-grad
 uacao-em-fisica-aplicada
END:VEVENT
BEGIN:VTIMEZONE
TZID:America/Sao_Paulo
X-LIC-LOCATION:America/Sao_Paulo
BEGIN:STANDARD
DTSTART;VALUE=DATE-TIME:20210220T230000
TZNAME:BRT
TZOFFSETFROM:-0200
TZOFFSETTO:-0300
END:STANDARD
END:VTIMEZONE
END:VCALENDAR
